BEGIN:VCALENDAR
METHOD:REQUEST
PRODID:-//events.orgNONSGML ical.net 4.0//EN
VERSION:2.0
BEGIN:VEVENT
DTEND;VALUE=DATE:20260709
DTSTAMP:20260424T092402Z
DTSTART;VALUE=DATE:20260709
LOCATION:Neck of the Woods\, San Francisco
ORGANIZER;CN=:mailto:events@events.org
SEQUENCE:0
SUMMARY:Clement St Comedy
UID:39cf5009-575f-4c5d-af9e-890e389793bf
URL:https://events.org/e/Clement-St-Comedy/CB77ADS7
BEGIN:VALARM
ACTION:DISPLAY
SUMMARY:Reminder
TRIGGER:-P1D
END:VALARM
END:VEVENT
END:VCALENDAR
