BEGIN:VCALENDAR
METHOD:REQUEST
PRODID:-//events.orgNONSGML ical.net 4.0//EN
VERSION:2.0
BEGIN:VEVENT
DTEND;VALUE=DATE:20260620
DTSTAMP:20260424T092220Z
DTSTART;VALUE=DATE:20260620
LOCATION:The Parkway Theater\, Minneapolis
ORGANIZER;CN=:mailto:events@events.org
SEQUENCE:0
SUMMARY:Hedwig and the Angry Inch
UID:0fc45db8-0eb2-4d30-8172-e121ba5efeba
URL:https://events.org/e/Hedwig-and-the-Angry-Inch/COV3W9BN
BEGIN:VALARM
ACTION:DISPLAY
SUMMARY:Reminder
TRIGGER:-P1D
END:VALARM
END:VEVENT
END:VCALENDAR
