BEGIN:VCALENDAR
METHOD:REQUEST
PRODID:-//events.orgNONSGML ical.net 4.0//EN
VERSION:2.0
BEGIN:VEVENT
DTEND;VALUE=DATE:20260731
DTSTAMP:20260422T084412Z
DTSTART;VALUE=DATE:20260731
LOCATION:The Liacouras Center\, Philadelphia
ORGANIZER;CN=:mailto:events@events.org
SEQUENCE:0
SUMMARY:TNA iMPACT! on AMC
UID:03ef0bce-94ff-41c2-a362-2e0c92134b97
URL:https://events.org/e/TNA-iMPACT-on-AMC/H67T67PK
BEGIN:VALARM
ACTION:DISPLAY
SUMMARY:Reminder
TRIGGER:-P1D
END:VALARM
END:VEVENT
END:VCALENDAR
