BEGIN:VCALENDAR
METHOD:REQUEST
PRODID:-//events.orgNONSGML ical.net 4.0//EN
VERSION:2.0
BEGIN:VEVENT
DTEND;VALUE=DATE:20260920
DTSTAMP:20260421T094805Z
DTSTART;VALUE=DATE:20260920
LOCATION:American Airlines Center\, Dallas
ORGANIZER;CN=:mailto:events@events.org
SEQUENCE:0
SUMMARY:J. Cole: The Fall-Off Tour
UID:48509ffc-a994-4bfa-90d7-636380d8bc67
URL:https://events.org/e/J-Cole-The-Fall-Off-Tour/8TERGDWA
BEGIN:VALARM
ACTION:DISPLAY
SUMMARY:Reminder
TRIGGER:-P1D
END:VALARM
END:VEVENT
END:VCALENDAR
