BEGIN:VCALENDAR
METHOD:REQUEST
PRODID:-//events.orgNONSGML ical.net 4.0//EN
VERSION:2.0
BEGIN:VEVENT
DTEND;VALUE=DATE:20260507
DTSTAMP:20260421T104446Z
DTSTART;VALUE=DATE:20260507
LOCATION:Gil Cates Theater- Geffen Playhouse\, Los Angeles
ORGANIZER;CN=:mailto:events@events.org
SEQUENCE:0
SUMMARY:Master Harold...And the Boys
UID:4991e02e-8949-4451-abb5-62d9dbcc48d2
URL:https://events.org/e/Master-HaroldAnd-the-Boys/AXHL7CW8
BEGIN:VALARM
ACTION:DISPLAY
SUMMARY:Reminder
TRIGGER:-P1D
END:VALARM
END:VEVENT
END:VCALENDAR
