BEGIN:VCALENDAR
METHOD:REQUEST
PRODID:-//events.orgNONSGML ical.net 4.0//EN
VERSION:2.0
BEGIN:VEVENT
DTEND;VALUE=DATE:20260519
DTSTAMP:20260419T130844Z
DTSTART;VALUE=DATE:20260519
LOCATION:Thalia Hall\, Chicago
ORGANIZER;CN=:mailto:events@events.org
SEQUENCE:0
SUMMARY:*SOLD OUT* Twin Peaks with V.V. Lightbody
UID:0ef0e97e-3ecd-48e4-832c-7a05096aa52d
URL:https://events.org/e/SOLD-OUT-Twin-Peaks-with-VV-Lightbody/2CQB5CVH
BEGIN:VALARM
ACTION:DISPLAY
SUMMARY:Reminder
TRIGGER:-P1D
END:VALARM
END:VEVENT
END:VCALENDAR
