BEGIN:VCALENDAR
METHOD:REQUEST
PRODID:-//events.orgNONSGML ical.net 4.0//EN
VERSION:2.0
BEGIN:VEVENT
DTEND;VALUE=DATE:20260512
DTSTAMP:20260425T201737Z
DTSTART;VALUE=DATE:20260512
LOCATION:Clock-Out Lounge\, Seattle
ORGANIZER;CN=:mailto:events@events.org
SEQUENCE:0
SUMMARY:Raised By TV Events Presents: Seinfeld Trivia Night
UID:615782c8-ecba-44f0-905f-de26ad38bf93
URL:https://events.org/e/Raised-By-TV-Events-Presents-Seinfeld-Trivia-Nigh
 t/DHK9IB7B
BEGIN:VALARM
ACTION:DISPLAY
SUMMARY:Reminder
TRIGGER:-P1D
END:VALARM
END:VEVENT
END:VCALENDAR
