BEGIN:VCALENDAR
METHOD:REQUEST
PRODID:-//events.orgNONSGML ical.net 4.0//EN
VERSION:2.0
BEGIN:VEVENT
DTEND;VALUE=DATE:20260520
DTSTAMP:20260422T091017Z
DTSTART;VALUE=DATE:20260520
LOCATION:Park West\, Chicago
ORGANIZER;CN=:mailto:events@events.org
SEQUENCE:0
SUMMARY:Joe Jackson
UID:83fa6219-3bf1-4d62-8c2b-b6f83bafa4c5
URL:https://events.org/e/Joe-Jackson/3G33G8YK
BEGIN:VALARM
ACTION:DISPLAY
SUMMARY:Reminder
TRIGGER:-P1D
END:VALARM
END:VEVENT
END:VCALENDAR
