BEGIN:VCALENDAR
METHOD:REQUEST
PRODID:-//events.orgNONSGML ical.net 4.0//EN
VERSION:2.0
BEGIN:VEVENT
DTEND;VALUE=DATE:20260912
DTSTAMP:20260423T133025Z
DTSTART;VALUE=DATE:20260912
LOCATION:Nu Stadium\, Miami
ORGANIZER;CN=:mailto:events@events.org
SEQUENCE:0
SUMMARY:Inter Miami CF vs Nashville SC
UID:cb8395c4-929b-462c-8a8a-b311204c1ee4
URL:https://events.org/e/Inter-Miami-CF-vs-Nashville-SC/EXENUPQX
BEGIN:VALARM
ACTION:DISPLAY
SUMMARY:Reminder
TRIGGER:-P1D
END:VALARM
END:VEVENT
END:VCALENDAR
