BEGIN:VCALENDAR
METHOD:REQUEST
PRODID:-//events.orgNONSGML ical.net 4.0//EN
VERSION:2.0
BEGIN:VEVENT
DTEND;VALUE=DATE:20260423
DTSTAMP:20260422T091642Z
DTSTART;VALUE=DATE:20260423
LOCATION:Mercury Lounge\, New York
ORGANIZER;CN=:mailto:events@events.org
SEQUENCE:0
SUMMARY:Jay Webb
UID:5828f2b6-6ca4-4cbb-8872-df453fede909
URL:https://events.org/e/Jay-Webb/7Y3H3DDL
BEGIN:VALARM
ACTION:DISPLAY
SUMMARY:Reminder
TRIGGER:-P1D
END:VALARM
END:VEVENT
END:VCALENDAR
