BEGIN:VCALENDAR
METHOD:REQUEST
PRODID:-//events.orgNONSGML ical.net 4.0//EN
VERSION:2.0
BEGIN:VEVENT
DTEND;VALUE=DATE:20260420
DTSTAMP:20260421T082027Z
DTSTART;VALUE=DATE:20260420
LOCATION:New World Stages - Stage 5\, New York
ORGANIZER;CN=:mailto:events@events.org
SEQUENCE:0
SUMMARY:Jamie Allan's Amaze
UID:25ed8539-f173-4df0-b568-01e083ab963b
URL:https://events.org/e/Jamie-Allans-Amaze/BMYIDSGO
BEGIN:VALARM
ACTION:DISPLAY
SUMMARY:Reminder
TRIGGER:-P1D
END:VALARM
END:VEVENT
END:VCALENDAR
