BEGIN:VCALENDAR
METHOD:REQUEST
PRODID:-//events.orgNONSGML ical.net 4.0//EN
VERSION:2.0
BEGIN:VEVENT
DTEND;VALUE=DATE:20260508
DTSTAMP:20260423T133838Z
DTSTART;VALUE=DATE:20260508
LOCATION:Showbox SODO\, Seattle
ORGANIZER;CN=:mailto:events@events.org
SEQUENCE:0
SUMMARY:The Martinez Brothers
UID:b271c371-b234-4ff1-b840-f35e7040809c
URL:https://events.org/e/The-Martinez-Brothers/EADGAQWA
BEGIN:VALARM
ACTION:DISPLAY
SUMMARY:Reminder
TRIGGER:-P1D
END:VALARM
END:VEVENT
END:VCALENDAR
