BEGIN:VCALENDAR
METHOD:REQUEST
PRODID:-//events.orgNONSGML ical.net 4.0//EN
VERSION:2.0
BEGIN:VEVENT
DTEND;VALUE=DATE:20260628
DTSTAMP:20260424T080745Z
DTSTART;VALUE=DATE:20260628
LOCATION:Underground Arts\, Philadelphia
ORGANIZER;CN=:mailto:events@events.org
SEQUENCE:0
SUMMARY:Paul Oakenfold with The Crystal Method (21+ Event)
UID:dcfb7537-22ff-4be4-9e59-b612efc4ecca
URL:https://events.org/e/Paul-Oakenfold-with-The-Crystal-Method-21-Event/9
 LSJ58MO
BEGIN:VALARM
ACTION:DISPLAY
SUMMARY:Reminder
TRIGGER:-P1D
END:VALARM
END:VEVENT
END:VCALENDAR
