BEGIN:VCALENDAR
METHOD:REQUEST
PRODID:-//events.orgNONSGML ical.net 4.0//EN
VERSION:2.0
BEGIN:VEVENT
DTEND;VALUE=DATE:20260508
DTSTAMP:20260423T133218Z
DTSTART;VALUE=DATE:20260508
LOCATION:T-Mobile Park\, Seattle
ORGANIZER;CN=:mailto:events@events.org
SEQUENCE:0
SUMMARY:Seattle Mariners Ballpark Tour
UID:4584a047-8676-4e00-99bd-a5ec26ac172f
URL:https://events.org/e/Seattle-Mariners-Ballpark-Tour/DNJCIVRX
BEGIN:VALARM
ACTION:DISPLAY
SUMMARY:Reminder
TRIGGER:-P1D
END:VALARM
END:VEVENT
END:VCALENDAR
