BEGIN:VCALENDAR
METHOD:REQUEST
PRODID:-//events.orgNONSGML ical.net 4.0//EN
VERSION:2.0
BEGIN:VEVENT
DTEND;VALUE=DATE:20260509
DTSTAMP:20260425T102745Z
DTSTART;VALUE=DATE:20260509
LOCATION:McCaw Hall\, Seattle
ORGANIZER;CN=:mailto:events@events.org
SEQUENCE:0
SUMMARY:Carmen w/ Seattle Opera
UID:6e3e497b-58ea-42f6-9b9d-5dadf9e8ad76
URL:https://events.org/e/Carmen-w-Seattle-Opera/3F438YYP
BEGIN:VALARM
ACTION:DISPLAY
SUMMARY:Reminder
TRIGGER:-P1D
END:VALARM
END:VEVENT
END:VCALENDAR
