BEGIN:VCALENDAR
METHOD:REQUEST
PRODID:-//events.orgNONSGML ical.net 4.0//EN
VERSION:2.0
BEGIN:VEVENT
DTEND;VALUE=DATE:20260428
DTSTAMP:20260424T081053Z
DTSTART;VALUE=DATE:20260428
LOCATION:Nederlander Theatre\, New York
ORGANIZER;CN=:mailto:events@events.org
SEQUENCE:0
SUMMARY:Schmigadoon!
UID:e37249bf-93c9-41aa-9ab7-e5aed343af8b
URL:https://events.org/e/Schmigadoon/5HMT2TRW
BEGIN:VALARM
ACTION:DISPLAY
SUMMARY:Reminder
TRIGGER:-P1D
END:VALARM
END:VEVENT
END:VCALENDAR
