BEGIN:VCALENDAR
METHOD:REQUEST
PRODID:-//events.orgNONSGML ical.net 4.0//EN
VERSION:2.0
BEGIN:VEVENT
DTEND;VALUE=DATE:20260605
DTSTAMP:20260425T102553Z
DTSTART;VALUE=DATE:20260605
LOCATION:Chase Field\, Phoenix
ORGANIZER;CN=:mailto:events@events.org
SEQUENCE:0
SUMMARY:Arizona Diamondbacks vs. Washington Nationals
UID:ecfeeca1-9be2-42d3-803b-65700b9e2ac0
URL:https://events.org/e/Arizona-Diamondbacks-vs-Washington-Nationals/MIQU
 QRU9
BEGIN:VALARM
ACTION:DISPLAY
SUMMARY:Reminder
TRIGGER:-P1D
END:VALARM
END:VEVENT
END:VCALENDAR
