BEGIN:VCALENDAR
METHOD:REQUEST
PRODID:-//events.orgNONSGML ical.net 4.0//EN
VERSION:2.0
BEGIN:VEVENT
DTEND;VALUE=DATE:20260731
DTSTAMP:20260421T103641Z
DTSTART;VALUE=DATE:20260731
LOCATION:Majestic Theatre Dallas\, Dallas
ORGANIZER;CN=:mailto:events@events.org
SEQUENCE:0
SUMMARY:Matt Fraser: America's Top Medium
UID:ed128391-2ac4-4967-aea7-ff809781fe90
URL:https://events.org/e/Matt-Fraser-Americas-Top-Medium/WRU2QVTX
BEGIN:VALARM
ACTION:DISPLAY
SUMMARY:Reminder
TRIGGER:-P1D
END:VALARM
END:VEVENT
END:VCALENDAR
