BEGIN:VCALENDAR
METHOD:REQUEST
PRODID:-//events.orgNONSGML ical.net 4.0//EN
VERSION:2.0
BEGIN:VEVENT
DTEND;VALUE=DATE:20260516
DTSTAMP:20260423T172205Z
DTSTART;VALUE=DATE:20260516
LOCATION:Music Box - San Diego\, San Diego
ORGANIZER;CN=:mailto:events@events.org
SEQUENCE:0
SUMMARY:Hemlocke Springs
UID:a6d6cf9a-a34f-4d25-9933-432f339767ba
URL:https://events.org/e/Hemlocke-Springs/MQW9MB2G
BEGIN:VALARM
ACTION:DISPLAY
SUMMARY:Reminder
TRIGGER:-P1D
END:VALARM
END:VEVENT
END:VCALENDAR
