BEGIN:VCALENDAR
METHOD:REQUEST
PRODID:-//events.orgNONSGML ical.net 4.0//EN
VERSION:2.0
BEGIN:VEVENT
DTEND;VALUE=DATE:20260906
DTSTAMP:20260421T094537Z
DTSTART;VALUE=DATE:20260906
LOCATION:Hard Rock Stadium\, Miami
ORGANIZER;CN=:mailto:events@events.org
SEQUENCE:0
SUMMARY:Orange Blossom Classic
UID:5e2be292-00d7-4dab-a57a-0f57257d4d13
URL:https://events.org/e/Orange-Blossom-Classic/WN6L4WWQ
BEGIN:VALARM
ACTION:DISPLAY
SUMMARY:Reminder
TRIGGER:-P1D
END:VALARM
END:VEVENT
END:VCALENDAR
