BEGIN:VCALENDAR
METHOD:REQUEST
PRODID:-//events.orgNONSGML ical.net 4.0//EN
VERSION:2.0
BEGIN:VEVENT
DTEND;VALUE=DATE:20261006
DTSTAMP:20260422T090238Z
DTSTART;VALUE=DATE:20261006
LOCATION:Talking Stick Resort Amphitheatre\, Phoenix
ORGANIZER;CN=:mailto:events@events.org
SEQUENCE:0
SUMMARY:Jack Johnson: SURFILMUSIC Tour 2026
UID:b302d81a-65dc-4ae4-89eb-c7ae4674e2e9
URL:https://events.org/e/Jack-Johnson-SURFILMUSIC-Tour-2026/H6OWWWR3
BEGIN:VALARM
ACTION:DISPLAY
SUMMARY:Reminder
TRIGGER:-P1D
END:VALARM
END:VEVENT
END:VCALENDAR
