BEGIN:VCALENDAR
METHOD:REQUEST
PRODID:-//events.orgNONSGML ical.net 4.0//EN
VERSION:2.0
BEGIN:VEVENT
DTEND;VALUE=DATE:20260815
DTSTAMP:20260424T092445Z
DTSTART;VALUE=DATE:20260815
LOCATION:Underground Arts\, Philadelphia
ORGANIZER;CN=:mailto:events@events.org
SEQUENCE:0
SUMMARY:Yard Act (21+ Event)
UID:5e502e25-663e-49b5-aa36-daca2d908bd1
URL:https://events.org/e/Yard-Act-21-Event/W3SW4NN4
BEGIN:VALARM
ACTION:DISPLAY
SUMMARY:Reminder
TRIGGER:-P1D
END:VALARM
END:VEVENT
END:VCALENDAR
