BEGIN:VCALENDAR
METHOD:REQUEST
PRODID:-//events.orgNONSGML ical.net 4.0//EN
VERSION:2.0
BEGIN:VEVENT
DTEND;VALUE=DATE:20260707
DTSTAMP:20260421T144526Z
DTSTART;VALUE=DATE:20260707
LOCATION:TD Garden\, Boston
ORGANIZER;CN=:mailto:events@events.org
SEQUENCE:0
SUMMARY:Megan Moroney: The Cloud 9 Tour
UID:345f370f-0ec6-4843-a172-315cf1e847a6
URL:https://events.org/e/Megan-Moroney-The-Cloud-9-Tour/JBUOTAIR
BEGIN:VALARM
ACTION:DISPLAY
SUMMARY:Reminder
TRIGGER:-P1D
END:VALARM
END:VEVENT
END:VCALENDAR
