BEGIN:VCALENDAR
METHOD:REQUEST
PRODID:-//events.orgNONSGML ical.net 4.0//EN
VERSION:2.0
BEGIN:VEVENT
DTEND;VALUE=DATE:20260516
DTSTAMP:20260423T133816Z
DTSTART;VALUE=DATE:20260516
LOCATION:Paramount Theatre\, Denver
ORGANIZER;CN=:mailto:events@events.org
SEQUENCE:0
SUMMARY:Eric Johnson -  Texaphonic Tour 2026
UID:657360cf-0fdb-4742-a521-fa71e977a1c1
URL:https://events.org/e/Eric-Johnson---Texaphonic-Tour-2026/3WEDSE36
BEGIN:VALARM
ACTION:DISPLAY
SUMMARY:Reminder
TRIGGER:-P1D
END:VALARM
END:VEVENT
END:VCALENDAR
