BEGIN:VCALENDAR
METHOD:REQUEST
PRODID:-//events.orgNONSGML ical.net 4.0//EN
VERSION:2.0
BEGIN:VEVENT
DTEND;VALUE=DATE:20260426
DTSTAMP:20260424T080551Z
DTSTART;VALUE=DATE:20260426
LOCATION:Madison Square Garden\, New York
ORGANIZER;CN=:mailto:events@events.org
SEQUENCE:0
SUMMARY:Madison Square Garden Tour Experience
UID:38cf0a42-49fc-42b2-9f85-d33803336a86
URL:https://events.org/e/Madison-Square-Garden-Tour-Experience/4RB5QL9R
BEGIN:VALARM
ACTION:DISPLAY
SUMMARY:Reminder
TRIGGER:-P1D
END:VALARM
END:VEVENT
END:VCALENDAR
