BEGIN:VCALENDAR
METHOD:REQUEST
PRODID:-//events.orgNONSGML ical.net 4.0//EN
VERSION:2.0
BEGIN:VEVENT
DTEND;VALUE=DATE:20260425
DTSTAMP:20260419T165420Z
DTSTART;VALUE=DATE:20260425
LOCATION:House of Blues Chicago\, Chicago
ORGANIZER;CN=:mailto:events@events.org
SEQUENCE:0
SUMMARY:R&B ONLY LIVE - Chicago\, IL
UID:0bd9abe3-8719-4758-8558-85eca924c0e0
URL:https://events.org/e/RB-ONLY-LIVE---Chicago-IL/L4R8JVJH
BEGIN:VALARM
ACTION:DISPLAY
SUMMARY:Reminder
TRIGGER:-P1D
END:VALARM
END:VEVENT
END:VCALENDAR
