BEGIN:VCALENDAR
METHOD:REQUEST
PRODID:-//events.orgNONSGML ical.net 4.0//EN
VERSION:2.0
BEGIN:VEVENT
DTEND;VALUE=DATE:20260716
DTSTAMP:20260419T142950Z
DTSTART;VALUE=DATE:20260716
LOCATION:The Atlantis\, Washington
ORGANIZER;CN=:mailto:events@events.org
SEQUENCE:0
SUMMARY:Buck Meek
UID:a8ba5e72-67e3-4604-a301-6214b6462ef1
URL:https://events.org/e/Buck-Meek/KDPYYJ4Q
BEGIN:VALARM
ACTION:DISPLAY
SUMMARY:Reminder
TRIGGER:-P1D
END:VALARM
END:VEVENT
END:VCALENDAR
