BEGIN:VCALENDAR
METHOD:REQUEST
PRODID:-//events.orgNONSGML ical.net 4.0//EN
VERSION:2.0
BEGIN:VEVENT
DTEND;VALUE=DATE:20260627
DTSTAMP:20260421T104354Z
DTSTART;VALUE=DATE:20260627
LOCATION:The Wilbur\, Boston
ORGANIZER;CN=:mailto:events@events.org
SEQUENCE:0
SUMMARY:Duncan Trussell
UID:330e44b6-421c-45c6-ba7b-40142bec5b02
URL:https://events.org/e/Duncan-Trussell/4K3T6CKH
BEGIN:VALARM
ACTION:DISPLAY
SUMMARY:Reminder
TRIGGER:-P1D
END:VALARM
END:VEVENT
END:VCALENDAR
