BEGIN:VCALENDAR
METHOD:REQUEST
PRODID:-//events.orgNONSGML ical.net 4.0//EN
VERSION:2.0
BEGIN:VEVENT
DTEND;VALUE=DATE:20260611
DTSTAMP:20260421T094246Z
DTSTART;VALUE=DATE:20260611
LOCATION:Stages - Sterling Stage\, Houston
ORGANIZER;CN=:mailto:events@events.org
SEQUENCE:0
SUMMARY:Spamilton: An American Parody
UID:3088b39a-95d3-4a9f-8290-8cd94b4bf634
URL:https://events.org/e/Spamilton-An-American-Parody/ABLQGUTQ
BEGIN:VALARM
ACTION:DISPLAY
SUMMARY:Reminder
TRIGGER:-P1D
END:VALARM
END:VEVENT
END:VCALENDAR
