BEGIN:VCALENDAR
METHOD:REQUEST
PRODID:-//events.orgNONSGML ical.net 4.0//EN
VERSION:2.0
BEGIN:VEVENT
DTEND;VALUE=DATE:20260524
DTSTAMP:20260422T091832Z
DTSTART;VALUE=DATE:20260524
LOCATION:Grant Park\, Chicago
ORGANIZER;CN=:mailto:events@events.org
SEQUENCE:0
SUMMARY:Sueños Festival
UID:e7af91ae-43b1-4c6e-b673-0bb36cd4d17f
URL:https://events.org/e/Suenos-Festival/OJJUJKDQ
BEGIN:VALARM
ACTION:DISPLAY
SUMMARY:Reminder
TRIGGER:-P1D
END:VALARM
END:VEVENT
END:VCALENDAR
