BEGIN:VCALENDAR
METHOD:REQUEST
PRODID:-//events.orgNONSGML ical.net 4.0//EN
VERSION:2.0
BEGIN:VEVENT
DTEND;VALUE=DATE:20260425
DTSTAMP:20260421T094354Z
DTSTART;VALUE=DATE:20260425
LOCATION:Reggies Bananna's Shack \, Chicago
ORGANIZER;CN=:mailto:events@events.org
SEQUENCE:0
SUMMARY:Ken Davis Project
UID:ebb4e120-a2f7-4bb8-a648-eb698ae66647
URL:https://events.org/e/Ken-Davis-Project/CJS7KE5R
BEGIN:VALARM
ACTION:DISPLAY
SUMMARY:Reminder
TRIGGER:-P1D
END:VALARM
END:VEVENT
END:VCALENDAR
