BEGIN:VCALENDAR
METHOD:REQUEST
PRODID:-//events.orgNONSGML ical.net 4.0//EN
VERSION:2.0
BEGIN:VEVENT
DTEND;VALUE=DATE:20260507
DTSTAMP:20260421T114903Z
DTSTART;VALUE=DATE:20260507
LOCATION:Palace Theatre\, Los Angeles
ORGANIZER;CN=:mailto:events@events.org
SEQUENCE:0
SUMMARY:Netflix Is A Joke Presents: Girls Gotta Eat
UID:e618ee7b-2b47-483f-afd9-9b5dc27af08c
URL:https://events.org/e/Netflix-Is-A-Joke-Presents-Girls-Gotta-Eat/9OIMSL
 OT
BEGIN:VALARM
ACTION:DISPLAY
SUMMARY:Reminder
TRIGGER:-P1D
END:VALARM
END:VEVENT
END:VCALENDAR
