BEGIN:VCALENDAR
METHOD:REQUEST
PRODID:-//events.orgNONSGML ical.net 4.0//EN
VERSION:2.0
BEGIN:VEVENT
DTEND;VALUE=DATE:20260620
DTSTAMP:20260424T091920Z
DTSTART;VALUE=DATE:20260620
LOCATION:Hennepin Event Center\, Minneapolis
ORGANIZER;CN=:mailto:events@events.org
SEQUENCE:0
SUMMARY:Second Chance Prom: Promageddon!
UID:b2d50bb3-5d99-4950-b74e-32c5f23615dc
URL:https://events.org/e/Second-Chance-Prom-Promageddon/5YFD7BAS
BEGIN:VALARM
ACTION:DISPLAY
SUMMARY:Reminder
TRIGGER:-P1D
END:VALARM
END:VEVENT
END:VCALENDAR
