BEGIN:VCALENDAR
METHOD:REQUEST
PRODID:-//events.orgNONSGML ical.net 4.0//EN
VERSION:2.0
BEGIN:VEVENT
DTEND;VALUE=DATE:20260426
DTSTAMP:20260424T080429Z
DTSTART;VALUE=DATE:20260426
LOCATION:House of the Redeemer\, New York
ORGANIZER;CN=:mailto:events@events.org
SEQUENCE:0
SUMMARY:TRU
UID:9e312da7-cd67-40c3-947a-2c64c6a23375
URL:https://events.org/e/TRU/9H3GVXNI
BEGIN:VALARM
ACTION:DISPLAY
SUMMARY:Reminder
TRIGGER:-P1D
END:VALARM
END:VEVENT
END:VCALENDAR
