BEGIN:VCALENDAR
METHOD:REQUEST
PRODID:-//events.orgNONSGML ical.net 4.0//EN
VERSION:2.0
BEGIN:VEVENT
DTEND;VALUE=DATE:20260528
DTSTAMP:20260424T081323Z
DTSTART;VALUE=DATE:20260528
LOCATION:Rate Field\, Chicago
ORGANIZER;CN=:mailto:events@events.org
SEQUENCE:0
SUMMARY:Chicago White Sox vs. Minnesota Twins
UID:2f06c284-f686-4e62-9436-563a8ac61d12
URL:https://events.org/e/Chicago-White-Sox-vs-Minnesota-Twins/YSOWESDU
BEGIN:VALARM
ACTION:DISPLAY
SUMMARY:Reminder
TRIGGER:-P1D
END:VALARM
END:VEVENT
END:VCALENDAR
