BEGIN:VCALENDAR
METHOD:REQUEST
PRODID:-//events.orgNONSGML ical.net 4.0//EN
VERSION:2.0
BEGIN:VEVENT
DTEND;VALUE=DATE:20260927
DTSTAMP:20260421T095730Z
DTSTART;VALUE=DATE:20260927
LOCATION:South Side Ballroom\, Dallas
ORGANIZER;CN=:mailto:events@events.org
SEQUENCE:0
SUMMARY:Frank Turner - Lost Evenings IX
UID:1aefcb4e-03fe-479c-96cc-5fa987ccf36f
URL:https://events.org/e/Frank-Turner---Lost-Evenings-IX/TSX93O4X
BEGIN:VALARM
ACTION:DISPLAY
SUMMARY:Reminder
TRIGGER:-P1D
END:VALARM
END:VEVENT
END:VCALENDAR
