BEGIN:VCALENDAR
METHOD:REQUEST
PRODID:-//events.orgNONSGML ical.net 4.0//EN
VERSION:2.0
BEGIN:VEVENT
DTEND;VALUE=DATE:20260628
DTSTAMP:20260422T090626Z
DTSTART;VALUE=DATE:20260628
LOCATION:Tractor\, Seattle
ORGANIZER;CN=:mailto:events@events.org
SEQUENCE:0
SUMMARY:Bronwyn Keith-Hynes x Pixie & The Partygrass Boys
UID:f5ec9a6f-d586-42a8-ba9f-5077aca128ec
URL:https://events.org/e/Bronwyn-Keith-Hynes-x-Pixie-The-Partygrass-Boys/Y
 H2SO42D
BEGIN:VALARM
ACTION:DISPLAY
SUMMARY:Reminder
TRIGGER:-P1D
END:VALARM
END:VEVENT
END:VCALENDAR
