BEGIN:VCALENDAR
METHOD:REQUEST
PRODID:-//events.orgNONSGML ical.net 4.0//EN
VERSION:2.0
BEGIN:VEVENT
DTEND;VALUE=DATE:20260426
DTSTAMP:20260421T094618Z
DTSTART;VALUE=DATE:20260426
LOCATION:Thalia Hall\, Chicago
ORGANIZER;CN=:mailto:events@events.org
SEQUENCE:0
SUMMARY:Maya Hawke
UID:4c00751c-d4d6-462c-985b-377869b6473a
URL:https://events.org/e/Maya-Hawke/QUBYIVQL
BEGIN:VALARM
ACTION:DISPLAY
SUMMARY:Reminder
TRIGGER:-P1D
END:VALARM
END:VEVENT
END:VCALENDAR
