BEGIN:VCALENDAR
METHOD:REQUEST
PRODID:-//events.orgNONSGML ical.net 4.0//EN
VERSION:2.0
BEGIN:VEVENT
DTEND;VALUE=DATE:20260522
DTSTAMP:20260421T104513Z
DTSTART;VALUE=DATE:20260522
LOCATION:House of Blues San Diego\, San Diego
ORGANIZER;CN=:mailto:events@events.org
SEQUENCE:0
SUMMARY:Gimmie Gimmie Disco (18+ w/ ID)
UID:577b47a7-1525-4267-a297-4aa303b9b2ff
URL:https://events.org/e/Gimmie-Gimmie-Disco-18-w-ID/GGPMIM8L
BEGIN:VALARM
ACTION:DISPLAY
SUMMARY:Reminder
TRIGGER:-P1D
END:VALARM
END:VEVENT
END:VCALENDAR
