BEGIN:VCALENDAR
METHOD:REQUEST
PRODID:-//events.orgNONSGML ical.net 4.0//EN
VERSION:2.0
BEGIN:VEVENT
DTEND;VALUE=DATE:20260614
DTSTAMP:20260419T142314Z
DTSTART;VALUE=DATE:20260614
LOCATION:White Oak Music Hall - Upstairs \, Houston
ORGANIZER;CN=:mailto:events@events.org
SEQUENCE:0
SUMMARY:Christian Death + Gene Loves Jezebel
UID:a4c6bf2d-c58f-4c19-adb9-031c0723165c
URL:https://events.org/e/Christian-Death-Gene-Loves-Jezebel/TETHWBXC
BEGIN:VALARM
ACTION:DISPLAY
SUMMARY:Reminder
TRIGGER:-P1D
END:VALARM
END:VEVENT
END:VCALENDAR
