BEGIN:VCALENDAR
METHOD:REQUEST
PRODID:-//events.orgNONSGML ical.net 4.0//EN
VERSION:2.0
BEGIN:VEVENT
DTEND;VALUE=DATE:20260611
DTSTAMP:20260419T153445Z
DTSTART;VALUE=DATE:20260611
LOCATION:Alley Theatre-Hubbard Stage\, Houston
ORGANIZER;CN=:mailto:events@events.org
SEQUENCE:0
SUMMARY:Misery
UID:d974e9bf-b605-495f-98a5-8bda997da6ae
URL:https://events.org/e/Misery/DFEFQNQF
BEGIN:VALARM
ACTION:DISPLAY
SUMMARY:Reminder
TRIGGER:-P1D
END:VALARM
END:VEVENT
END:VCALENDAR
