BEGIN:VCALENDAR
METHOD:REQUEST
PRODID:-//events.orgNONSGML ical.net 4.0//EN
VERSION:2.0
BEGIN:VEVENT
DTEND;VALUE=DATE:20260701
DTSTAMP:20260421T094952Z
DTSTART;VALUE=DATE:20260701
LOCATION:Fenway Park\, Boston
ORGANIZER;CN=:mailto:events@events.org
SEQUENCE:0
SUMMARY:Boston Red Sox vs Washington Nationals: Red Sox USA Soccer Jersey
UID:d89c519f-42fc-4fd2-ab8a-fac092470840
URL:https://events.org/e/Boston-Red-Sox-vs-Washington-Nationals-Red-So/8QL
 EKHFG
BEGIN:VALARM
ACTION:DISPLAY
SUMMARY:Reminder
TRIGGER:-P1D
END:VALARM
END:VEVENT
END:VCALENDAR
