BEGIN:VCALENDAR
METHOD:REQUEST
PRODID:-//events.orgNONSGML ical.net 4.0//EN
VERSION:2.0
BEGIN:VEVENT
DTEND;VALUE=DATE:20260529
DTSTAMP:20260424T092326Z
DTSTART;VALUE=DATE:20260529
LOCATION:Walter WhereHouse\, Phoenix
ORGANIZER;CN=:mailto:events@events.org
SEQUENCE:0
SUMMARY:Claude Vonstroke (21+)
UID:1742ddf7-b7d0-4466-9a7f-dd771a5b2438
URL:https://events.org/e/Claude-Vonstroke-21/D9RLHHPM
BEGIN:VALARM
ACTION:DISPLAY
SUMMARY:Reminder
TRIGGER:-P1D
END:VALARM
END:VEVENT
END:VCALENDAR
