BEGIN:VCALENDAR
METHOD:REQUEST
PRODID:-//events.orgNONSGML ical.net 4.0//EN
VERSION:2.0
BEGIN:VEVENT
DTEND;VALUE=DATE:20260427
DTSTAMP:20260423T093938Z
DTSTART;VALUE=DATE:20260427
LOCATION:Big Night Live\, Boston
ORGANIZER;CN=:mailto:events@events.org
SEQUENCE:0
SUMMARY:Men's / Women's Soccer and Volleyball Formal at Studio B ( 18+ )
UID:757fcd1e-3e1f-400e-acc1-7efeb68db6b6
URL:https://events.org/e/Mens-Womens-Soccer-and-Volleyball-Formal-at-S/7GT
 CTS8H
BEGIN:VALARM
ACTION:DISPLAY
SUMMARY:Reminder
TRIGGER:-P1D
END:VALARM
END:VEVENT
END:VCALENDAR
