BEGIN:VCALENDAR
METHOD:REQUEST
PRODID:-//events.orgNONSGML ical.net 4.0//EN
VERSION:2.0
BEGIN:VEVENT
DTEND;VALUE=DATE:20260504
DTSTAMP:20260423T132954Z
DTSTART;VALUE=DATE:20260504
LOCATION:Music Box - San Diego\, San Diego
ORGANIZER;CN=:mailto:events@events.org
SEQUENCE:0
SUMMARY:Powfu
UID:65fa9953-f1f9-4891-af3e-d50fb0cf7d3f
URL:https://events.org/e/Powfu/RFATUXMJ
BEGIN:VALARM
ACTION:DISPLAY
SUMMARY:Reminder
TRIGGER:-P1D
END:VALARM
END:VEVENT
END:VCALENDAR
