BEGIN:VCALENDAR
METHOD:REQUEST
PRODID:-//events.orgNONSGML ical.net 4.0//EN
VERSION:2.0
BEGIN:VEVENT
DTEND;VALUE=DATE:20260622
DTSTAMP:20260422T091150Z
DTSTART;VALUE=DATE:20260622
LOCATION:Varsity Theater\, Minneapolis
ORGANIZER;CN=:mailto:events@events.org
SEQUENCE:0
SUMMARY:Joshua Slone: Thinking Too Much Tour
UID:cdd82c7a-b25c-45e2-9e50-70b011b60377
URL:https://events.org/e/Joshua-Slone-Thinking-Too-Much-Tour/347HCTAQ
BEGIN:VALARM
ACTION:DISPLAY
SUMMARY:Reminder
TRIGGER:-P1D
END:VALARM
END:VEVENT
END:VCALENDAR
