BEGIN:VCALENDAR
METHOD:REQUEST
PRODID:-//events.orgNONSGML ical.net 4.0//EN
VERSION:2.0
BEGIN:VEVENT
DTEND;VALUE=DATE:20261009
DTSTAMP:20260422T091051Z
DTSTART;VALUE=DATE:20261009
LOCATION:The Van Buren\, Phoenix
ORGANIZER;CN=:mailto:events@events.org
SEQUENCE:0
SUMMARY:Cavetown - Running With Scissors Tour
UID:1ee1cb4d-8399-47a6-b20b-4670997d38cc
URL:https://events.org/e/Cavetown---Running-With-Scissors-Tour/7W9NM3XS
BEGIN:VALARM
ACTION:DISPLAY
SUMMARY:Reminder
TRIGGER:-P1D
END:VALARM
END:VEVENT
END:VCALENDAR
