BEGIN:VCALENDAR
METHOD:REQUEST
PRODID:-//events.orgNONSGML ical.net 4.0//EN
VERSION:2.0
BEGIN:VEVENT
DTEND;VALUE=DATE:20260424
DTSTAMP:20260422T090301Z
DTSTART;VALUE=DATE:20260424
LOCATION:James Earl Jones Theatre\, New York
ORGANIZER;CN=:mailto:events@events.org
SEQUENCE:0
SUMMARY:The Fear of 13
UID:c4d54636-9a09-4d0b-a0eb-5c221b1870eb
URL:https://events.org/e/The-Fear-of-13/XUS8UFKC
BEGIN:VALARM
ACTION:DISPLAY
SUMMARY:Reminder
TRIGGER:-P1D
END:VALARM
END:VEVENT
END:VCALENDAR
