BEGIN:VCALENDAR
METHOD:REQUEST
PRODID:-//events.orgNONSGML ical.net 4.0//EN
VERSION:2.0
BEGIN:VEVENT
DTEND;VALUE=DATE:20260531
DTSTAMP:20260422T084037Z
DTSTART;VALUE=DATE:20260531
LOCATION:Thunderbird Lounge\, Phoenix
ORGANIZER;CN=:mailto:events@events.org
SEQUENCE:0
SUMMARY:Heated Rivalry Trivia Night
UID:742f75c0-2bab-425e-8bfb-7a410dda74c4
URL:https://events.org/e/Heated-Rivalry-Trivia-Night/YHACB8LK
BEGIN:VALARM
ACTION:DISPLAY
SUMMARY:Reminder
TRIGGER:-P1D
END:VALARM
END:VEVENT
END:VCALENDAR
