BEGIN:VCALENDAR
METHOD:REQUEST
PRODID:-//events.orgNONSGML ical.net 4.0//EN
VERSION:2.0
BEGIN:VEVENT
DTEND;VALUE=DATE:20260517
DTSTAMP:20260421T081913Z
DTSTART;VALUE=DATE:20260517
LOCATION:Chicago Shakespeare Theater\, Chicago
ORGANIZER;CN=:mailto:events@events.org
SEQUENCE:0
SUMMARY:Fault
UID:88c5a1b9-003c-4cd9-b615-deffa80c5322
URL:https://events.org/e/Fault/MA84ACCG
BEGIN:VALARM
ACTION:DISPLAY
SUMMARY:Reminder
TRIGGER:-P1D
END:VALARM
END:VEVENT
END:VCALENDAR
